BEGIN:VCALENDAR
VERSION:2.0
PRODID:-//Eventin//Event Calendar//EN
CALSCALE:GREGORIAN
METHOD:PUBLISH
BEGIN:VEVENT
UID:19b1d22f8e397d4711f048b31b72db0c@www.firstecwailorin.org
SUMMARY:FELLOWSHIP MEETINGS
DESCRIPTION:
LOCATION:Online
DTSTAMP:20260423T133721Z
DTSTART:20260519T160000Z
DTEND:20260519T173000Z
END:VEVENT
END:VCALENDAR
