BEGIN:VCALENDAR
VERSION:2.0
PRODID:-//Eventin//Event Calendar//EN
CALSCALE:GREGORIAN
METHOD:PUBLISH
BEGIN:VEVENT
UID:141ea31e8ce89a0e5bc41f4df9230e91@www.firstecwailorin.org
SUMMARY:FELLOWSHIP MEETINGS
DESCRIPTION:
LOCATION:Online
DTSTAMP:20260423T133746Z
DTSTART:20260512T160000Z
DTEND:20260512T173000Z
END:VEVENT
END:VCALENDAR
