BEGIN:VCALENDAR
VERSION:2.0
PRODID:-//Eventin//Event Calendar//EN
CALSCALE:GREGORIAN
METHOD:PUBLISH
BEGIN:VEVENT
UID:cb0e4c62cb36fa253894bdb353b5afec@www.firstecwailorin.org
SUMMARY:FELLOWSHIP MEETINGS
DESCRIPTION:
LOCATION:Online
DTSTAMP:20260423T133746Z
DTSTART:20260505T160000Z
DTEND:20260505T173000Z
END:VEVENT
END:VCALENDAR
