BEGIN:VCALENDAR
VERSION:2.0
PRODID:-//Eventin//Event Calendar//EN
CALSCALE:GREGORIAN
METHOD:PUBLISH
BEGIN:VEVENT
UID:4bfddf3d7971042f0dfbf9213ab6abd3@www.firstecwailorin.org
SUMMARY:FELLOWSHIP MEETINGS
DESCRIPTION:
LOCATION:Online
DTSTAMP:20260423T133721Z
DTSTART:20260428T160000Z
DTEND:20260428T173000Z
END:VEVENT
END:VCALENDAR
